Package: ClusterJudge Version: 1.29.1 Command: rm -rf ClusterJudge.buildbin-libdir && mkdir ClusterJudge.buildbin-libdir && E:\biocbuild\bbs-3.21-bioc\R\bin\R.exe CMD INSTALL --build --library=ClusterJudge.buildbin-libdir ClusterJudge_1.29.1.tar.gz StartedAt: 2025-02-10 07:28:43 -0500 (Mon, 10 Feb 2025) EndedAt: 2025-02-10 07:28:53 -0500 (Mon, 10 Feb 2025) EllapsedTime: 10.3 seconds RetCode: 0 Status: OK PackageFile: ClusterJudge_1.29.1.zip PackageFileSize: 4.283 MiB