Package: ClusterJudge Version: 1.29.1 Command: chmod a+r ClusterJudge -R && E:\biocbuild\bbs-3.21-bioc\R\bin\R.exe CMD build --keep-empty-dirs --no-resave-data ClusterJudge StartedAt: 2025-02-12 17:57:51 -0500 (Wed, 12 Feb 2025) EndedAt: 2025-02-12 17:59:05 -0500 (Wed, 12 Feb 2025) EllapsedTime: 74.5 seconds RetCode: 0 Status: OK PackageFile: ClusterJudge_1.29.1.tar.gz PackageFileSize: 844.9 KiB