Package: ClusterJudge Version: 1.29.1 Command: E:\biocbuild\bbs-3.21-bioc\R\bin\R.exe CMD check --no-multiarch --install=check:ClusterJudge.install-out.txt --library=E:\biocbuild\bbs-3.21-bioc\R\library --no-vignettes --timings ClusterJudge_1.29.1.tar.gz StartedAt: 2025-02-09 23:44:50 -0500 (Sun, 09 Feb 2025) EndedAt: 2025-02-09 23:48:17 -0500 (Sun, 09 Feb 2025) EllapsedTime: 206.9 seconds RetCode: 0 Status: OK CheckDir: ClusterJudge.Rcheck Warnings: 0