Package: ClusterSignificance Version: 1.35.0 Maintainer: Jason T Serviss MaintainerEmail: jason.serviss at ki.se git_url: https://git.bioconductor.org/packages/ClusterSignificance git_branch: devel git_last_commit: 4f0c989 git_last_commit_date: 2024-10-29 10:10:21 -0500 (Tue, 29 Oct 2024)