Package: ClusterSignificance Version: 1.35.0 Command: /Library/Frameworks/R.framework/Resources/bin/R CMD build --keep-empty-dirs --no-resave-data ClusterSignificance StartedAt: 2025-02-09 15:55:35 -0500 (Sun, 09 Feb 2025) EndedAt: 2025-02-09 15:55:55 -0500 (Sun, 09 Feb 2025) EllapsedTime: 20.2 seconds RetCode: 0 Status: OK PackageFile: ClusterSignificance_1.35.0.tar.gz PackageFileSize: 2.112 MiB