Package: ClusterSignificance Version: 1.35.0 Command: /Library/Frameworks/R.framework/Resources/bin/R CMD check --install=check:ClusterSignificance.install-out.txt --library=/Library/Frameworks/R.framework/Resources/library --no-vignettes --timings ClusterSignificance_1.35.0.tar.gz StartedAt: 2025-02-09 18:34:38 -0500 (Sun, 09 Feb 2025) EndedAt: 2025-02-09 18:34:54 -0500 (Sun, 09 Feb 2025) EllapsedTime: 16.2 seconds RetCode: 0 Status: OK CheckDir: ClusterSignificance.Rcheck Warnings: 0