Package: ClusterSignificance Version: 1.35.0 Command: /Library/Frameworks/R.framework/Resources/bin/R CMD build --keep-empty-dirs --no-resave-data ClusterSignificance StartedAt: 2025-02-09 16:19:08 -0500 (Sun, 09 Feb 2025) EndedAt: 2025-02-09 16:20:22 -0500 (Sun, 09 Feb 2025) EllapsedTime: 74.2 seconds RetCode: 0 Status: OK PackageFile: ClusterSignificance_1.35.0.tar.gz PackageFileSize: 2.107 MiB