Package: ClusterSignificance Version: 1.35.0 Command: /home/biocbuild/bbs-3.21-bioc/R/bin/R CMD build --keep-empty-dirs --no-resave-data ClusterSignificance StartedAt: 2025-02-09 16:41:58 -0500 (Sun, 09 Feb 2025) EndedAt: 2025-02-09 16:42:59 -0500 (Sun, 09 Feb 2025) EllapsedTime: 61.1 seconds RetCode: 0 Status: OK PackageFile: ClusterSignificance_1.35.0.tar.gz PackageFileSize: 1.828 MiB