Package: ClusterSignificance Version: 1.35.0 Command: rm -rf ClusterSignificance.buildbin-libdir && mkdir ClusterSignificance.buildbin-libdir && E:\biocbuild\bbs-3.21-bioc\R\bin\R.exe CMD INSTALL --build --library=ClusterSignificance.buildbin-libdir ClusterSignificance_1.35.0.tar.gz StartedAt: 2025-02-10 07:28:58 -0500 (Mon, 10 Feb 2025) EndedAt: 2025-02-10 07:33:14 -0500 (Mon, 10 Feb 2025) EllapsedTime: 255.3 seconds RetCode: 0 Status: OK PackageFile: ClusterSignificance_1.35.0.zip PackageFileSize: 1.526 MiB