Package: ClusterSignificance Version: 1.35.0 Command: chmod a+r ClusterSignificance -R && E:\biocbuild\bbs-3.21-bioc\R\bin\R.exe CMD build --keep-empty-dirs --no-resave-data ClusterSignificance StartedAt: 2025-02-09 17:55:19 -0500 (Sun, 09 Feb 2025) EndedAt: 2025-02-09 17:56:46 -0500 (Sun, 09 Feb 2025) EllapsedTime: 86.9 seconds RetCode: 0 Status: OK PackageFile: ClusterSignificance_1.35.0.tar.gz PackageFileSize: 1.325 MiB