Package: ClusterSignificance Version: 1.35.0 Command: E:\biocbuild\bbs-3.21-bioc\R\bin\R.exe CMD check --no-multiarch --install=check:ClusterSignificance.install-out.txt --library=E:\biocbuild\bbs-3.21-bioc\R\library --no-vignettes --timings ClusterSignificance_1.35.0.tar.gz StartedAt: 2025-02-09 23:45:20 -0500 (Sun, 09 Feb 2025) EndedAt: 2025-02-09 23:46:02 -0500 (Sun, 09 Feb 2025) EllapsedTime: 42.3 seconds RetCode: 0 Status: OK CheckDir: ClusterSignificance.Rcheck Warnings: 0