Package: ClusterSignificance Version: 1.35.0 Command: E:\biocbuild\bbs-3.21-bioc\R\bin\R.exe CMD INSTALL ClusterSignificance StartedAt: 2025-02-09 15:24:42 -0500 (Sun, 09 Feb 2025) EndedAt: 2025-02-09 15:26:59 -0500 (Sun, 09 Feb 2025) EllapsedTime: 136.6 seconds RetCode: 0 Status: OK