Package: CoCiteStats Version: 1.79.0 Command: /Library/Frameworks/R.framework/Resources/bin/R CMD INSTALL CoCiteStats StartedAt: 2025-02-09 15:07:10 -0500 (Sun, 09 Feb 2025) EndedAt: 2025-02-09 15:07:15 -0500 (Sun, 09 Feb 2025) EllapsedTime: 4.9 seconds RetCode: 0 Status: OK