Package: CoCiteStats Version: 1.79.0 Command: /Library/Frameworks/R.framework/Resources/bin/R CMD build --keep-empty-dirs --no-resave-data CoCiteStats StartedAt: 2025-02-12 16:17:57 -0500 (Wed, 12 Feb 2025) EndedAt: 2025-02-12 16:17:58 -0500 (Wed, 12 Feb 2025) EllapsedTime: 1.1 seconds RetCode: 0 Status: OK PackageFile: CoCiteStats_1.79.0.tar.gz PackageFileSize: 5.337 KiB