Package: CoCiteStats Version: 1.79.0 Command: /Library/Frameworks/R.framework/Resources/bin/R CMD INSTALL CoCiteStats StartedAt: 2025-02-12 15:13:06 -0500 (Wed, 12 Feb 2025) EndedAt: 2025-02-12 15:13:24 -0500 (Wed, 12 Feb 2025) EllapsedTime: 17.5 seconds RetCode: 0 Status: OK