Package: CoCiteStats Version: 1.79.0 Command: /home/biocbuild/bbs-3.21-bioc/R/bin/R CMD INSTALL CoCiteStats StartedAt: 2025-02-12 15:37:17 -0500 (Wed, 12 Feb 2025) EndedAt: 2025-02-12 15:37:29 -0500 (Wed, 12 Feb 2025) EllapsedTime: 12.7 seconds RetCode: 0 Status: OK