Package: CoGAPS Version: 3.27.0 Command: rm -rf CoGAPS.buildbin-libdir && mkdir CoGAPS.buildbin-libdir && /Users/biocbuild/BBS/utils/build-universal.sh CoGAPS_3.27.0.tar.gz /Library/Frameworks/R.framework/Resources/bin/R CoGAPS.buildbin-libdir StartedAt: 2025-02-10 00:47:40 -0500 (Mon, 10 Feb 2025) EndedAt: 2025-02-10 00:50:04 -0500 (Mon, 10 Feb 2025) EllapsedTime: 144.3 seconds RetCode: 0 Status: OK PackageFile: CoGAPS_3.27.0.tgz PackageFileSize: 20.37 MiB