Package: CoGAPS Version: 3.27.0 Command: /Library/Frameworks/R.framework/Resources/bin/R CMD check --install=check:CoGAPS.install-out.txt --library=/Library/Frameworks/R.framework/Resources/library --no-vignettes --timings CoGAPS_3.27.0.tar.gz StartedAt: 2025-02-09 19:52:32 -0500 (Sun, 09 Feb 2025) EndedAt: 2025-02-09 19:57:08 -0500 (Sun, 09 Feb 2025) EllapsedTime: 275.5 seconds RetCode: 0 Status: OK CheckDir: CoGAPS.Rcheck Warnings: 0