Package: CoGAPS Version: 3.27.0 Command: /Library/Frameworks/R.framework/Resources/bin/R CMD INSTALL CoGAPS StartedAt: 2025-02-09 15:34:57 -0500 (Sun, 09 Feb 2025) EndedAt: 2025-02-09 15:37:10 -0500 (Sun, 09 Feb 2025) EllapsedTime: 133.1 seconds RetCode: 0 Status: OK