Package: CoGAPS Version: 3.27.0 Command: /home/biocbuild/bbs-3.21-bioc/R/bin/R CMD INSTALL CoGAPS StartedAt: 2025-02-09 15:18:54 -0500 (Sun, 09 Feb 2025) EndedAt: 2025-02-09 15:20:35 -0500 (Sun, 09 Feb 2025) EllapsedTime: 101.2 seconds RetCode: 0 Status: OK