Package: ComPrAn Version: 1.15.0 Command: /home/biocbuild/R/R/bin/R CMD INSTALL ComPrAn StartedAt: 2025-01-29 20:05:57 -0000 (Wed, 29 Jan 2025) EndedAt: 2025-01-29 20:06:03 -0000 (Wed, 29 Jan 2025) EllapsedTime: 6.6 seconds RetCode: 0 Status: OK