Package: ComPrAn Version: 1.15.0 Command: /Library/Frameworks/R.framework/Resources/bin/R CMD INSTALL ComPrAn StartedAt: 2025-02-09 15:24:35 -0500 (Sun, 09 Feb 2025) EndedAt: 2025-02-09 15:24:44 -0500 (Sun, 09 Feb 2025) EllapsedTime: 9.0 seconds RetCode: 0 Status: OK