Package: ComPrAn Version: 1.15.0 Command: /home/biocbuild/bbs-3.21-bioc/R/bin/R CMD check --install=check:ComPrAn.install-out.txt --library=/home/biocbuild/bbs-3.21-bioc/R/site-library --timings ComPrAn_1.15.0.tar.gz StartedAt: 2025-02-04 21:07:40 -0500 (Tue, 04 Feb 2025) EndedAt: 2025-02-04 21:08:48 -0500 (Tue, 04 Feb 2025) EllapsedTime: 68.1 seconds RetCode: 0 Status: OK CheckDir: ComPrAn.Rcheck Warnings: 0