Package: ComPrAn Version: 1.15.0 Command: /home/biocbuild/bbs-3.21-bioc/R/bin/R CMD INSTALL ComPrAn StartedAt: 2025-02-09 15:10:07 -0500 (Sun, 09 Feb 2025) EndedAt: 2025-02-09 15:10:15 -0500 (Sun, 09 Feb 2025) EllapsedTime: 8.4 seconds RetCode: 0 Status: OK