Package: ComPrAn Version: 1.15.0 Command: rm -rf ComPrAn.buildbin-libdir && mkdir ComPrAn.buildbin-libdir && E:\biocbuild\bbs-3.21-bioc\R\bin\R.exe CMD INSTALL --build --library=ComPrAn.buildbin-libdir ComPrAn_1.15.0.tar.gz StartedAt: 2025-02-10 07:30:43 -0500 (Mon, 10 Feb 2025) EndedAt: 2025-02-10 07:31:09 -0500 (Mon, 10 Feb 2025) EllapsedTime: 25.5 seconds RetCode: 0 Status: OK PackageFile: ComPrAn_1.15.0.zip PackageFileSize: 2.257 MiB