Package: ComPrAn Version: 1.15.0 Command: chmod a+r ComPrAn -R && E:\biocbuild\bbs-3.21-bioc\R\bin\R.exe CMD build --keep-empty-dirs --no-resave-data ComPrAn StartedAt: 2025-02-09 18:01:14 -0500 (Sun, 09 Feb 2025) EndedAt: 2025-02-09 18:02:10 -0500 (Sun, 09 Feb 2025) EllapsedTime: 55.6 seconds RetCode: 0 Status: OK PackageFile: ComPrAn_1.15.0.tar.gz PackageFileSize: 3.053 MiB