Package: ComPrAn Version: 1.15.0 Command: E:\biocbuild\bbs-3.21-bioc\R\bin\R.exe CMD INSTALL ComPrAn StartedAt: 2025-02-09 15:36:15 -0500 (Sun, 09 Feb 2025) EndedAt: 2025-02-09 15:36:35 -0500 (Sun, 09 Feb 2025) EllapsedTime: 19.5 seconds RetCode: 0 Status: OK