Package: ComplexHeatmap Version: 2.23.0 Command: rm -rf ComplexHeatmap.buildbin-libdir && mkdir ComplexHeatmap.buildbin-libdir && /Users/biocbuild/BBS/utils/build-universal.sh ComplexHeatmap_2.23.0.tar.gz /Library/Frameworks/R.framework/Resources/bin/R ComplexHeatmap.buildbin-libdir StartedAt: 2025-02-12 22:15:25 -0500 (Wed, 12 Feb 2025) EndedAt: 2025-02-12 22:15:34 -0500 (Wed, 12 Feb 2025) EllapsedTime: 9.2 seconds RetCode: 0 Status: OK PackageFile: ComplexHeatmap_2.23.0.tgz PackageFileSize: 3.028 MiB