Package: ComplexHeatmap Version: 2.23.0 Command: /Library/Frameworks/R.framework/Resources/bin/R CMD INSTALL ComplexHeatmap StartedAt: 2025-02-12 15:10:50 -0500 (Wed, 12 Feb 2025) EndedAt: 2025-02-12 15:10:58 -0500 (Wed, 12 Feb 2025) EllapsedTime: 8.5 seconds RetCode: 0 Status: OK