Package: ComplexHeatmap Version: 2.23.0 Command: /home/biocbuild/R/R/bin/R CMD INSTALL ComplexHeatmap StartedAt: 2025-01-29 20:01:01 -0000 (Wed, 29 Jan 2025) EndedAt: 2025-01-29 20:01:32 -0000 (Wed, 29 Jan 2025) EllapsedTime: 30.8 seconds RetCode: 0 Status: OK