Package: ComplexHeatmap Version: 2.23.0 Command: rm -rf ComplexHeatmap.buildbin-libdir && mkdir ComplexHeatmap.buildbin-libdir && /Users/biocbuild/BBS/utils/build-universal.sh ComplexHeatmap_2.23.0.tar.gz /Library/Frameworks/R.framework/Resources/bin/R ComplexHeatmap.buildbin-libdir StartedAt: 2025-02-10 00:47:51 -0500 (Mon, 10 Feb 2025) EndedAt: 2025-02-10 00:48:26 -0500 (Mon, 10 Feb 2025) EllapsedTime: 34.5 seconds RetCode: 0 Status: OK PackageFile: ComplexHeatmap_2.23.0.tgz PackageFileSize: 3.013 MiB