Package: ComplexHeatmap Version: 2.23.0 Command: rm -rf ComplexHeatmap.buildbin-libdir && mkdir ComplexHeatmap.buildbin-libdir && E:\biocbuild\bbs-3.21-bioc\R\bin\R.exe CMD INSTALL --build --library=ComplexHeatmap.buildbin-libdir ComplexHeatmap_2.23.0.tar.gz StartedAt: 2025-02-10 07:30:37 -0500 (Mon, 10 Feb 2025) EndedAt: 2025-02-10 07:37:07 -0500 (Mon, 10 Feb 2025) EllapsedTime: 389.2 seconds RetCode: 0 Status: OK PackageFile: ComplexHeatmap_2.23.0.zip PackageFileSize: 2.982 MiB