Package: ComplexHeatmap Version: 2.23.0 Command: E:\biocbuild\bbs-3.21-bioc\R\bin\R.exe CMD INSTALL ComplexHeatmap StartedAt: 2025-02-09 15:34:45 -0500 (Sun, 09 Feb 2025) EndedAt: 2025-02-09 15:40:42 -0500 (Sun, 09 Feb 2025) EllapsedTime: 357.5 seconds RetCode: 0 Status: OK