Package: CompoundDb Version: 1.11.2 Command: /Library/Frameworks/R.framework/Resources/bin/R CMD INSTALL CompoundDb StartedAt: 2025-02-04 15:26:26 -0500 (Tue, 04 Feb 2025) EndedAt: 2025-02-04 15:26:34 -0500 (Tue, 04 Feb 2025) EllapsedTime: 8.4 seconds RetCode: 0 Status: OK