Package: CompoundDb Version: 1.11.2 Command: /home/biocbuild/R/R/bin/R CMD build --keep-empty-dirs --no-resave-data CompoundDb StartedAt: 2025-01-28 22:04:04 -0000 (Tue, 28 Jan 2025) EndedAt: 2025-01-28 22:04:53 -0000 (Tue, 28 Jan 2025) EllapsedTime: 49.0 seconds RetCode: 0 Status: OK PackageFile: CompoundDb_1.11.2.tar.gz PackageFileSize: 1.431 MiB