Package: CompoundDb Version: 1.11.2 Command: rm -rf CompoundDb.buildbin-libdir && mkdir CompoundDb.buildbin-libdir && /Users/biocbuild/BBS/utils/build-universal.sh CompoundDb_1.11.2.tar.gz /Library/Frameworks/R.framework/Resources/bin/R CompoundDb.buildbin-libdir StartedAt: 2025-02-05 00:34:22 -0500 (Wed, 05 Feb 2025) EndedAt: 2025-02-05 00:34:53 -0500 (Wed, 05 Feb 2025) EllapsedTime: 31.3 seconds RetCode: 0 Status: OK PackageFile: CompoundDb_1.11.2.tgz PackageFileSize: 1.448 MiB