Package: CompoundDb Version: 1.11.2 Command: /Library/Frameworks/R.framework/Resources/bin/R CMD check --install=check:CompoundDb.install-out.txt --library=/Library/Frameworks/R.framework/Resources/library --no-vignettes --timings CompoundDb_1.11.2.tar.gz StartedAt: 2025-02-04 19:42:29 -0500 (Tue, 04 Feb 2025) EndedAt: 2025-02-04 19:45:18 -0500 (Tue, 04 Feb 2025) EllapsedTime: 169.8 seconds RetCode: 0 Status: OK CheckDir: CompoundDb.Rcheck Warnings: 0