Package: CompoundDb Version: 1.11.2 Command: /home/biocbuild/bbs-3.21-bioc/R/bin/R CMD check --install=check:CompoundDb.install-out.txt --library=/home/biocbuild/bbs-3.21-bioc/R/site-library --timings CompoundDb_1.11.2.tar.gz StartedAt: 2025-02-04 21:07:39 -0500 (Tue, 04 Feb 2025) EndedAt: 2025-02-04 21:10:29 -0500 (Tue, 04 Feb 2025) EllapsedTime: 170.2 seconds RetCode: 0 Status: OK CheckDir: CompoundDb.Rcheck Warnings: 0