Package: CompoundDb Version: 1.11.2 Command: /home/biocbuild/bbs-3.21-bioc/R/bin/R CMD INSTALL CompoundDb StartedAt: 2025-02-04 15:32:05 -0500 (Tue, 04 Feb 2025) EndedAt: 2025-02-04 15:32:26 -0500 (Tue, 04 Feb 2025) EllapsedTime: 20.1 seconds RetCode: 0 Status: OK