Package: CompoundDb Version: 1.11.2 Command: rm -rf CompoundDb.buildbin-libdir && mkdir CompoundDb.buildbin-libdir && E:\biocbuild\bbs-3.21-bioc\R\bin\R.exe CMD INSTALL --build --library=CompoundDb.buildbin-libdir CompoundDb_1.11.2.tar.gz StartedAt: 2025-02-10 07:30:42 -0500 (Mon, 10 Feb 2025) EndedAt: 2025-02-10 07:31:52 -0500 (Mon, 10 Feb 2025) EllapsedTime: 70.5 seconds RetCode: 0 Status: OK PackageFile: CompoundDb_1.11.2.zip PackageFileSize: 1.458 MiB