Package: CompoundDb Version: 1.11.2 Command: chmod a+r CompoundDb -R && E:\biocbuild\bbs-3.21-bioc\R\bin\R.exe CMD build --keep-empty-dirs --no-resave-data CompoundDb StartedAt: 2025-02-04 17:59:26 -0500 (Tue, 04 Feb 2025) EndedAt: 2025-02-04 18:01:37 -0500 (Tue, 04 Feb 2025) EllapsedTime: 131.8 seconds RetCode: 0 Status: OK PackageFile: CompoundDb_1.11.2.tar.gz PackageFileSize: 1.304 MiB