Package: CompoundDb Version: 1.11.2 Command: E:\biocbuild\bbs-3.21-bioc\R\bin\R.exe CMD check --no-multiarch --install=check:CompoundDb.install-out.txt --library=E:\biocbuild\bbs-3.21-bioc\R\library --no-vignettes --timings CompoundDb_1.11.2.tar.gz StartedAt: 2025-02-05 00:21:27 -0500 (Wed, 05 Feb 2025) EndedAt: 2025-02-05 00:27:31 -0500 (Wed, 05 Feb 2025) EllapsedTime: 364.0 seconds RetCode: 0 Status: OK CheckDir: CompoundDb.Rcheck Warnings: 0