Package: CompoundDb Version: 1.11.2 Command: E:\biocbuild\bbs-3.21-bioc\R\bin\R.exe CMD INSTALL CompoundDb StartedAt: 2025-02-09 16:06:18 -0500 (Sun, 09 Feb 2025) EndedAt: 2025-02-09 16:07:12 -0500 (Sun, 09 Feb 2025) EllapsedTime: 53.7 seconds RetCode: 0 Status: OK