Package: CopyNumberPlots Version: 1.23.0 Command: /Library/Frameworks/R.framework/Resources/bin/R CMD check --install=check:CopyNumberPlots.install-out.txt --library=/Library/Frameworks/R.framework/Resources/library --no-vignettes --timings CopyNumberPlots_1.23.0.tar.gz StartedAt: 2025-01-21 18:49:29 -0500 (Tue, 21 Jan 2025) EndedAt: 2025-01-21 18:51:34 -0500 (Tue, 21 Jan 2025) EllapsedTime: 125.5 seconds RetCode: 0 Status: OK CheckDir: CopyNumberPlots.Rcheck Warnings: 0