Package: CopyNumberPlots Version: 1.23.0 Command: /home/biocbuild/R/R/bin/R CMD build --keep-empty-dirs --no-resave-data CopyNumberPlots StartedAt: 2025-01-28 22:06:31 -0000 (Tue, 28 Jan 2025) EndedAt: 2025-01-28 22:08:54 -0000 (Tue, 28 Jan 2025) EllapsedTime: 143.0 seconds RetCode: 0 Status: OK PackageFile: CopyNumberPlots_1.23.0.tar.gz PackageFileSize: 1.006 MiB