Package: CopyNumberPlots Version: 1.23.0 Command: /home/biocbuild/R/R/bin/R CMD INSTALL CopyNumberPlots StartedAt: 2025-01-29 20:09:12 -0000 (Wed, 29 Jan 2025) EndedAt: 2025-01-29 20:10:12 -0000 (Wed, 29 Jan 2025) EllapsedTime: 59.6 seconds RetCode: 0 Status: OK