Package: CopyNumberPlots Version: 1.23.0 Command: /Library/Frameworks/R.framework/Resources/bin/R CMD build --keep-empty-dirs --no-resave-data CopyNumberPlots StartedAt: 2025-02-04 16:19:48 -0500 (Tue, 04 Feb 2025) EndedAt: 2025-02-04 16:21:00 -0500 (Tue, 04 Feb 2025) EllapsedTime: 71.9 seconds RetCode: 1 Status: ERROR PackageFile: None PackageFileSize: NA