Package: CopyNumberPlots Version: 1.23.0 Command: /Library/Frameworks/R.framework/Resources/bin/R CMD INSTALL CopyNumberPlots StartedAt: 2025-02-04 15:27:12 -0500 (Tue, 04 Feb 2025) EndedAt: 2025-02-04 15:28:11 -0500 (Tue, 04 Feb 2025) EllapsedTime: 59.3 seconds RetCode: 0 Status: OK