Package: CopyNumberPlots Version: 1.23.0 Command: /home/biocbuild/bbs-3.21-bioc/R/bin/R CMD build --keep-empty-dirs --no-resave-data CopyNumberPlots StartedAt: 2025-02-04 16:44:33 -0500 (Tue, 04 Feb 2025) EndedAt: 2025-02-04 16:45:46 -0500 (Tue, 04 Feb 2025) EllapsedTime: 73.1 seconds RetCode: 1 Status: ERROR PackageFile: None PackageFileSize: NA