Package: CopyNumberPlots Version: 1.23.0 Command: /home/biocbuild/bbs-3.21-bioc/R/bin/R CMD check --install=check:CopyNumberPlots.install-out.txt --library=/home/biocbuild/bbs-3.21-bioc/R/site-library --timings CopyNumberPlots_1.23.0.tar.gz StartedAt: 2025-01-21 21:06:39 -0500 (Tue, 21 Jan 2025) EndedAt: 2025-01-21 21:12:28 -0500 (Tue, 21 Jan 2025) EllapsedTime: 349.5 seconds RetCode: 0 Status: OK CheckDir: CopyNumberPlots.Rcheck Warnings: 0